BEGIN:VCALENDAR
PRODID:-//eluceo/ical//2.0/EN
VERSION:2.0
CALSCALE:GREGORIAN
BEGIN:VEVENT
UID:06af762fc89146524166f94845f92bb6
DTSTAMP:20260421T201633Z
SUMMARY:BBYO Memphis Kickoff
DESCRIPTION:Jewish Community Partners\nMemphis Jewish Community Calendar\nh
 ttps://jcpmemphis.org/community-calendar/bbyo-memphis-kickoff-1464114766\n
 \nMemphis BBYO Kicks off the year in with a Party! All incoming Freshman a
 re invited to Join Memphis BBYO for this beginning of the year kick off
DTSTART;TZID=America/Chicago:20160817T173000
DTEND;TZID=America/Chicago:20160817T190000
END:VEVENT
END:VCALENDAR
