BEGIN:VCALENDAR
PRODID:-//eluceo/ical//2.0/EN
VERSION:2.0
CALSCALE:GREGORIAN
BEGIN:VEVENT
UID:b71f69e36251cd7e76ed4bb0d4aa346f
DTSTAMP:20260422T185817Z
SUMMARY:BBYO Spring Regional Convention
DESCRIPTION:Jewish Community Partners\nMemphis Jewish Community Calendar\nh
 ttps://jcpmemphis.org/community-calendar/bbyo-spring-regional-convention-1
 534953082\n\nBBYO members from Cotton States will meet for programming
DTSTART;TZID=America/Chicago:20190405T120000
DTEND;TZID=America/Chicago:20190407T180000
END:VEVENT
END:VCALENDAR
