BEGIN:VCALENDAR
PRODID:-//eluceo/ical//2.0/EN
VERSION:2.0
CALSCALE:GREGORIAN
BEGIN:VEVENT
UID:3a3b2e52b88fd0eb1036b3284ad43bfe
DTSTAMP:20260423T135530Z
SUMMARY:BBYO Turkey Bowl
DESCRIPTION:Jewish Community Partners\nMemphis Jewish Community Calendar\nh
 ttps://jcpmemphis.org/community-calendar/bbyo-turkey-bowl-1623182767\n\nBB
 YO Turkey Bowl for all AZA in the region!
DTSTART;TZID=America/Chicago:20211203T140000
DTEND;TZID=America/Chicago:20211205T160000
END:VEVENT
END:VCALENDAR
