BEGIN:VCALENDAR
PRODID:-//eluceo/ical//2.0/EN
VERSION:2.0
CALSCALE:GREGORIAN
BEGIN:VEVENT
UID:97e5cea5c04cffccba639e0f73a048f9
DTSTAMP:20260425T020042Z
SUMMARY:Beers of the Field
DESCRIPTION:Jewish Community Partners\nMemphis Jewish Community Calendar\nh
 ttps://jcpmemphis.org/community-calendar/beers-of-the-field-1493393362\n\n
 Gear up for Shavuot as you enjoy tasting various foods and beers produced 
 from the species found in Megillat Rut (the Book of Ruth). 9pm: Early Acce
 ss Happy Hour for our "After Hours at the J" Young Professionals 10pm - Mi
 dnight: Open to MJCC Members
DTSTART;TZID=America/Chicago:20170520T210000
DTEND;TZID=America/Chicago:20170520T235500
END:VEVENT
END:VCALENDAR
