BEGIN:VCALENDAR
PRODID:-//eluceo/ical//2.0/EN
VERSION:2.0
CALSCALE:GREGORIAN
BEGIN:VEVENT
UID:d1c869a48a567f092a0f6c91794eea77
DTSTAMP:20260421T144718Z
SUMMARY:Belz Family Foundations Rehabilitation Facility Open House
DESCRIPTION:Jewish Community Partners\nMemphis Jewish Community Calendar\nh
 ttps://jcpmemphis.org/community-calendar/belz-family-foundations-rehabilit
 ation-facility-open-house-1566318528\n\nOpen House/Ribbon Cutting for the 
 Belz Family Foundations Rehabilitation Facility
DTSTART;TZID=America/Chicago:20191024T170000
DTEND;TZID=America/Chicago:20191024T183000
END:VEVENT
END:VCALENDAR
