BEGIN:VCALENDAR
PRODID:-//eluceo/ical//2.0/EN
VERSION:2.0
CALSCALE:GREGORIAN
BEGIN:VEVENT
UID:abd728afd7f4f83855de5b3269869c97
DTSTAMP:20260422T164450Z
SUMMARY:MJCC 3rd Place Lounge: The Comedy of Benji Lovitt
DESCRIPTION:Jewish Community Partners\nMemphis Jewish Community Calendar\nh
 ttps://jcpmemphis.org/community-calendar/benji-lovitt\n\nThrough Lovitt's 
 energy and enthusiasm\, his show What War Zone? will make you laugh out 
 loud as he sheds light on embarrassing Hebrew mistakes\, Jewish holidays\,
  and exactly what makes North American and Israeli Jews different from eac
 h other.\n\nAges 21 and over • $20/person\n\nAdmission includes food cat
 ered by Holy Cow and open bar with beer\, wine\, and other refreshments.\n
 \nDoors open at 7:30pm • Show at 8:30pm\n\nMJCC Members only\n\nRegister
  online\, call (901) 761-0810\, or stop by ...
DTSTART;TZID=America/Chicago:20160305T193000
DTEND;TZID=America/Chicago:20160305T223000
END:VEVENT
END:VCALENDAR
