BEGIN:VCALENDAR
PRODID:-//eluceo/ical//2.0/EN
VERSION:2.0
CALSCALE:GREGORIAN
BEGIN:VEVENT
UID:17473383fbd1df96a2eb5df11b5e4dd6
DTSTAMP:20260419T160643Z
SUMMARY:Beth Sholom Board of Directors Meeting
DESCRIPTION:Jewish Community Partners\nMemphis Jewish Community Calendar\nh
 ttps://jcpmemphis.org/community-calendar/beth-sholom-board-of-directors-me
 eting-1485290120\n\nBeth Sholom Board of Directors Meeting
DTSTART;TZID=America/Chicago:20170518T190000
DTEND;TZID=America/Chicago:20170518T200000
END:VEVENT
END:VCALENDAR
