BEGIN:VCALENDAR
PRODID:-//eluceo/ical//2.0/EN
VERSION:2.0
CALSCALE:GREGORIAN
BEGIN:VEVENT
UID:d88dd766f29e5e8fb08663918625da94
DTSTAMP:20260425T111130Z
SUMMARY:BJCS Board Meeting
DESCRIPTION:Jewish Community Partners\nMemphis Jewish Community Calendar\nh
 ttps://jcpmemphis.org/community-calendar/bjcs-board-meeting-1620146639\n\n
 BJCS Board Meeting
DTSTART;TZID=America/Chicago:20220321T190000
DTEND;TZID=America/Chicago:20220321T203000
END:VEVENT
END:VCALENDAR
