BEGIN:VCALENDAR
PRODID:-//eluceo/ical//2.0/EN
VERSION:2.0
CALSCALE:GREGORIAN
BEGIN:VEVENT
UID:e28b94d2ce82e15541744efff385a938
DTSTAMP:20260421T192946Z
SUMMARY:B'nai Tzedek Teen Foundation check presentation ceremony
DESCRIPTION:Jewish Community Partners\nMemphis Jewish Community Calendar\nh
 ttps://jcpmemphis.org/community-calendar/bnai-tzedek-teen-foundation-check
 -presentation-ceremony-1413987269\n\nJoin the Memphis B'nai Tzedek teen ph
 ilanthropy board as they present $10\,000 in grant awards to Memphis Jewis
 h organizations! Dessert reception.
DTSTART;TZID=America/Chicago:20150420T190000
DTEND;TZID=America/Chicago:20150420T210000
END:VEVENT
END:VCALENDAR
