BEGIN:VCALENDAR
PRODID:-//eluceo/ical//2.0/EN
VERSION:2.0
CALSCALE:GREGORIAN
BEGIN:VEVENT
UID:870175b8a17c64fe08ca654ae0af62c7
DTSTAMP:20260420T145445Z
SUMMARY:Bornblum Alumni Family Gathering
DESCRIPTION:Jewish Community Partners\nMemphis Jewish Community Calendar\nh
 ttps://jcpmemphis.org/community-calendar/bornblum-alumni-family-gathering-
 1452713499\n\nA gathering honoring Bornblum Alumni Families.
DTSTART;TZID=America/Chicago:20160303T193000
DTEND;TZID=America/Chicago:20160303T210000
END:VEVENT
END:VCALENDAR
