BEGIN:VCALENDAR
PRODID:-//eluceo/ical//2.0/EN
VERSION:2.0
CALSCALE:GREGORIAN
BEGIN:VEVENT
UID:53f336b893d6b8734bdcfd15b97ec87b
DTSTAMP:20260421T192916Z
SUMMARY:Bornblum Jewish Community School Board Meeting
DESCRIPTION:Jewish Community Partners\nMemphis Jewish Community Calendar\nh
 ttps://jcpmemphis.org/community-calendar/bornblum-jewish-community-school-
 board-meeting-1438189539\n\nBornblum Jewish Community School
DTSTART;TZID=America/Chicago:20151123T173000
DTEND;TZID=America/Chicago:20151123T190000
END:VEVENT
END:VCALENDAR
