BEGIN:VCALENDAR
PRODID:-//eluceo/ical//2.0/EN
VERSION:2.0
CALSCALE:GREGORIAN
BEGIN:VEVENT
UID:a08e8176f4301bbff1a4089b1f89f7c1
DTSTAMP:20260422T051411Z
SUMMARY:BSSS Grandmensch Event
DESCRIPTION:Jewish Community Partners\nMemphis Jewish Community Calendar\nh
 ttps://jcpmemphis.org/community-calendar/bsss-grandmensch-event\n\nBSSS Gr
 andmensch Event
DTSTART;TZID=America/Chicago:20130925T081500
DTEND;TZID=America/Chicago:20130925T091500
END:VEVENT
END:VCALENDAR
