BEGIN:VCALENDAR
PRODID:-//eluceo/ical//2.0/EN
VERSION:2.0
CALSCALE:GREGORIAN
BEGIN:VEVENT
UID:3a2319c3d6d75bb5f6692032ed0482c0
DTSTAMP:20260419T210742Z
SUMMARY:BSSS Recruitment Event
DESCRIPTION:Jewish Community Partners\nMemphis Jewish Community Calendar\nh
 ttps://jcpmemphis.org/community-calendar/bsss-recruitment-event\n\nBSSS Re
 cruitment Event
DTSTART;TZID=America/Chicago:20130310T093000
DTEND;TZID=America/Chicago:20130310T113000
END:VEVENT
END:VCALENDAR
