BEGIN:VCALENDAR
PRODID:-//eluceo/ical//2.0/EN
VERSION:2.0
CALSCALE:GREGORIAN
BEGIN:VEVENT
UID:bb97c1cd26ba1d383b15996d1c762cd0
DTSTAMP:20260419T160623Z
SUMMARY:Chabad - Community Chanukah Celebration and Menorah Lighting
DESCRIPTION:Jewish Community Partners\nMemphis Jewish Community Calendar\nh
 ttps://jcpmemphis.org/community-calendar/chabad---community-chanukah-celeb
 ration-and-menorah-lighting-1447780217\n\nGrand Chanukah Celebration - and
  giant Menorah Lighting
DTSTART;TZID=America/Chicago:20151213T150000
DTEND;TZID=America/Chicago:20151213T170000
END:VEVENT
END:VCALENDAR
