BEGIN:VCALENDAR
PRODID:-//eluceo/ical//2.0/EN
VERSION:2.0
CALSCALE:GREGORIAN
BEGIN:VEVENT
UID:bf3b95f8354e8b05fdd0f04dafbe501b
DTSTAMP:20260421T113001Z
SUMMARY:chabad womens cirlce - pre Rosh hashanah dinner with Jamie Geller
DESCRIPTION:Jewish Community Partners\nMemphis Jewish Community Calendar\nh
 ttps://jcpmemphis.org/community-calendar/chabad-womens-cirlce---pre-rosh-h
 ashanah-dinner-with-jamie-geller-1435077115\n\nchabad womens circle pre ro
 sh hashanah dinner with Jamie Geller
DTSTART;TZID=America/Chicago:20150902T000000
DTEND;TZID=America/Chicago:20150902T000000
END:VEVENT
END:VCALENDAR
