BEGIN:VCALENDAR
PRODID:-//eluceo/ical//2.0/EN
VERSION:2.0
CALSCALE:GREGORIAN
BEGIN:VEVENT
UID:e2aa90123aa46d0cff3bb3d28d273e14
DTSTAMP:20260421T172449Z
SUMMARY:chabad womens hamantash bake
DESCRIPTION:Jewish Community Partners\nMemphis Jewish Community Calendar\nh
 ttps://jcpmemphis.org/community-calendar/chabad-womens-hamantash-bake-1518
 535579\n\nchabad womens circle hamantash bake
DTSTART;TZID=America/Chicago:20180221T190000
DTEND;TZID=America/Chicago:20180221T210000
END:VEVENT
END:VCALENDAR
