BEGIN:VCALENDAR
PRODID:-//eluceo/ical//2.0/EN
VERSION:2.0
CALSCALE:GREGORIAN
BEGIN:VEVENT
UID:13a748d79a7d8c8efb5dbb7b6d841aaa
DTSTAMP:20260422T034151Z
SUMMARY:Challah Baking with Orit Lehrfield
DESCRIPTION:Jewish Community Partners\nMemphis Jewish Community Calendar\nh
 ttps://jcpmemphis.org/community-calendar/challah-baking-with-orit-lehrfiel
 d-1503069737\n\nChallah Baking with Orit Lehrfield
DTSTART;TZID=America/Chicago:20180426T180000
DTEND;TZID=America/Chicago:20180426T190000
END:VEVENT
END:VCALENDAR
