BEGIN:VCALENDAR
PRODID:-//eluceo/ical//2.0/EN
VERSION:2.0
CALSCALE:GREGORIAN
BEGIN:VEVENT
UID:b7adcd8532c47c53e329887f7714de9b
DTSTAMP:20260423T174136Z
SUMMARY:Chanukah Blessings and Songs
DESCRIPTION:Jewish Community Partners\nMemphis Jewish Community Calendar\nh
 ttps://jcpmemphis.org/community-calendar/chanukah-blessings-and-songs-1449
 178629\n\nJoin us as we celebrate Chanukah together at the MJCC. We will l
 ight the candles together and sing Chanukah blessings and songs led by Hea
 ther Kufert\, Director of Jewish Innovation & Engagement. Come for just on
 e night\, or all eight!
DTSTART;TZID=America/Chicago:20151210T173000
DTEND;TZID=America/Chicago:20151210T180000
END:VEVENT
END:VCALENDAR
