BEGIN:VCALENDAR
PRODID:-//eluceo/ical//2.0/EN
VERSION:2.0
CALSCALE:GREGORIAN
BEGIN:VEVENT
UID:d7ed9d63c27f370923bfb29ac19bbbd6
DTSTAMP:20260421T205631Z
SUMMARY:Chanukah Blessings and Songs
DESCRIPTION:Jewish Community Partners\nMemphis Jewish Community Calendar\nh
 ttps://jcpmemphis.org/community-calendar/chanukah-blessings-and-songs-1449
 178878\n\nJoin us as we celebrate Chanukah together at the MJCC. We will l
 ight the candles together and sing Chanukah blessings and songs led by Hea
 ther Kufert\, Director of Jewish Innovation & Engagement. Come for just on
 e night\, or all eight!
DTSTART;TZID=America/Chicago:20151212T173000
DTEND;TZID=America/Chicago:20151212T180000
END:VEVENT
END:VCALENDAR
