BEGIN:VCALENDAR
PRODID:-//eluceo/ical//2.0/EN
VERSION:2.0
CALSCALE:GREGORIAN
BEGIN:VEVENT
UID:8bd869621439b652f5feda751f232056
DTSTAMP:20260421T095108Z
SUMMARY:CityWide Sisterhood Game Night At Beth Sholom
DESCRIPTION:Jewish Community Partners\nMemphis Jewish Community Calendar\nh
 ttps://jcpmemphis.org/community-calendar/citywide-sisterhood-game-night-at
 -beth-sholom-1471976044\n\nBeth Sholom will be hosting the CityWide Sister
 hood Game Night.
DTSTART;TZID=America/Chicago:20170301T190000
DTEND;TZID=America/Chicago:20170301T210000
END:VEVENT
END:VCALENDAR
