BEGIN:VCALENDAR
PRODID:-//eluceo/ical//2.0/EN
VERSION:2.0
CALSCALE:GREGORIAN
BEGIN:VEVENT
UID:ed128cd44ceb9395cc3e16c93c35f74b
DTSTAMP:20260419T185658Z
SUMMARY:Community Yom Ha'atzmaut Celebration
DESCRIPTION:Jewish Community Partners\nMemphis Jewish Community Calendar\nh
 ttps://jcpmemphis.org/community-calendar/community-yom-haatzmaut-celebrati
 on-1461019757\n\nCome join us for the Community Yom Ha'atzmaut (Israel Ind
 ependence Day) Celebration taking place at the Memphis Jewish community Ce
 nter. In partnership with the Bornblum Jewish Community School and Margoli
 n Hebrew Academy/Feinstone Yeshiva of the South.We will have a local band\
 , featuring Rusty Graber\, camel rides\, bounce house\, face painting\, tr
 ain rides\, & more! You can bring your own picnic dinner or buy kosher gri
 lled hot dogs & hamburgers from Holy Cow. Israeli snacks & candy will be p
 ro...
DTSTART;TZID=America/Chicago:20160512T173000
DTEND;TZID=America/Chicago:20160512T190000
END:VEVENT
END:VCALENDAR
