BEGIN:VCALENDAR
PRODID:-//eluceo/ical//2.0/EN
VERSION:2.0
CALSCALE:GREGORIAN
BEGIN:VEVENT
UID:42f73c8b98fe873569c703f299544fd6
DTSTAMP:20260420T072024Z
SUMMARY:Continuing the Interfaith Conversation: Debunking Myths
DESCRIPTION:Jewish Community Partners\nMemphis Jewish Community Calendar\nh
 ttps://jcpmemphis.org/community-calendar/continuing-the-interfaith-convers
 ation-debunking-myths-1494619082\n\nThis program will be at the Memphis Is
 lamic Center and is open to the community.
DTSTART;TZID=America/Chicago:20170911T190000
DTEND;TZID=America/Chicago:20170911T203000
END:VEVENT
END:VCALENDAR
