BEGIN:VCALENDAR
PRODID:-//eluceo/ical//2.0/EN
VERSION:2.0
CALSCALE:GREGORIAN
BEGIN:VEVENT
UID:8921ddcd990d13c8586060bf1f9e4fd2
DTSTAMP:20260424T173113Z
SUMMARY:Cooper Yeshiva Community Night of Learning
DESCRIPTION:Jewish Community Partners\nMemphis Jewish Community Calendar\nh
 ttps://jcpmemphis.org/community-calendar/cooper-yeshiva-community-night-of
 -learning-1534880688\n\nThe boys from the Cooper Yeshiva High School will 
 give divrei Torah on the topic of the holidays to the community. It will t
 ake place at the Cooper High School.
DTSTART;TZID=America/Chicago:20180913T200000
DTEND;TZID=America/Chicago:20180913T211500
END:VEVENT
END:VCALENDAR
