BEGIN:VCALENDAR
PRODID:-//eluceo/ical//2.0/EN
VERSION:2.0
CALSCALE:GREGORIAN
BEGIN:VEVENT
UID:14d965d929cd3b4788b300ffc8fb11e5
DTSTAMP:20260422T192855Z
SUMMARY:CYHSB Night of Learning
DESCRIPTION:Jewish Community Partners\nMemphis Jewish Community Calendar\nh
 ttps://jcpmemphis.org/community-calendar/cyhsb-night-of-learning-156035531
 0\n\nThe Cooper Yeshiva High School Boys School will do a Night of Learnin
 g before Pesach for the community.
DTSTART;TZID=America/Chicago:20200401T200000
DTEND;TZID=America/Chicago:20200401T213000
END:VEVENT
END:VCALENDAR
