BEGIN:VCALENDAR
PRODID:-//eluceo/ical//2.0/EN
VERSION:2.0
CALSCALE:GREGORIAN
BEGIN:VEVENT
UID:2044a18ab334a1113a0095b7595f8aee
DTSTAMP:20260422T000007Z
SUMMARY:Daniel Pearl BBG's Pearl Pasta Party
DESCRIPTION:Jewish Community Partners\nMemphis Jewish Community Calendar\nh
 ttps://jcpmemphis.org/community-calendar/daniel-pearl-bbgs-pearl-pasta-par
 ty-1488490291\n\nPearl Host another successful PPP
DTSTART;TZID=America/Chicago:20170402T170000
DTEND;TZID=America/Chicago:20170402T210000
END:VEVENT
END:VCALENDAR
