BEGIN:VCALENDAR
PRODID:-//eluceo/ical//2.0/EN
VERSION:2.0
CALSCALE:GREGORIAN
BEGIN:VEVENT
UID:c7e4f6c6a2af19fe746be40ad5bdf047
DTSTAMP:20260419T185845Z
SUMMARY:Daniel Pearl "Harmony for Humanity" concert $ DP Legacy Awards
DESCRIPTION:Jewish Community Partners\nMemphis Jewish Community Calendar\nh
 ttps://jcpmemphis.org/community-calendar/daniel-pearl-harmony-for-humanity
 -concert--dp-legacy-awards-1414615903\n\nAnnual community concert featurin
 g the most talented Memphis musicians to celebrate the life and legacy of 
 Daniel Pearl. The concert is part of the World Days of Music.\nThe concert
  is sponsored by Morris S. Fogelman Jewish Student Center at Hillel of Mem
 phis\, Facing History & Ourselves and Pearl B'nai B'rith Girls.\nThe Danie
 l Pearl Legacy award is also presented.
DTSTART;TZID=America/Chicago:20151025T140000
DTEND;TZID=America/Chicago:20151025T160000
END:VEVENT
END:VCALENDAR
