BEGIN:VCALENDAR
PRODID:-//eluceo/ical//2.0/EN
VERSION:2.0
CALSCALE:GREGORIAN
BEGIN:VEVENT
UID:bcb90f7f3aae852ccd3a928639499f0d
DTSTAMP:20260419T234815Z
SUMMARY:Day of Learning - Disabilities Inclusion
DESCRIPTION:Jewish Community Partners\nMemphis Jewish Community Calendar\nh
 ttps://jcpmemphis.org/community-calendar/day-of-learning---disabilities-in
 clusion-1506458301\n\nFebruary is North American Inclusion Month (NAIM) a.
 k.a. Jewish Disability Awareness and Inclusion Month (JDAIM).The MJCC will
  be participating in this broader initiative by hosting a "Day of Learning
 " dedicated to better understanding people with disabilities and fostering
  an inclusive Jewish community here in Memphis.
DTSTART;TZID=America/Chicago:20180204T140000
DTEND;TZID=America/Chicago:20180204T160000
END:VEVENT
END:VCALENDAR
