BEGIN:VCALENDAR
PRODID:-//eluceo/ical//2.0/EN
VERSION:2.0
CALSCALE:GREGORIAN
BEGIN:VEVENT
UID:1cb7680bc0ef18ef2259dfa5f6e06464
DTSTAMP:20260421T112843Z
SUMMARY:Family Fun Night at ASBEE
DESCRIPTION:Jewish Community Partners\nMemphis Jewish Community Calendar\nh
 ttps://jcpmemphis.org/community-calendar/family-fun-night-at-asbee-1524761
 515\n\nJoin your friends at ASBEE for another Family Fun Night featuring F
 ood and a Film!\n\nCome for a yummy pizza\, pasta and garden salad dinner 
 for only $5 per person.\n\nStay while we show the popular Disney movie "Th
 e Incredibles" in our Social Hall (film is FREE).\n\nCoffee\, tea and boar
 d games for adults (if you don't want to watch the movie) in our Foyer.\n\
 nParents\, please note: No drop-offs - children must be accompanied by an 
 adult.
DTSTART;TZID=America/Chicago:20180610T181500
DTEND;TZID=America/Chicago:20180610T203000
END:VEVENT
END:VCALENDAR
