BEGIN:VCALENDAR
PRODID:-//eluceo/ical//2.0/EN
VERSION:2.0
CALSCALE:GREGORIAN
BEGIN:VEVENT
UID:dc173982a27f7c0ce7220e1cb8739f9e
DTSTAMP:20260423T041233Z
SUMMARY:Fedovation Grants Panel Meeting II
DESCRIPTION:Jewish Community Partners\nMemphis Jewish Community Calendar\nh
 ttps://jcpmemphis.org/community-calendar/fedovation-grants-panel-meeting-i
 i\n\nFedovation Grants Panel Meeting II
DTSTART;TZID=America/Chicago:20160518T180000
DTEND;TZID=America/Chicago:20160518T190000
END:VEVENT
END:VCALENDAR
