BEGIN:VCALENDAR
PRODID:-//eluceo/ical//2.0/EN
VERSION:2.0
CALSCALE:GREGORIAN
BEGIN:VEVENT
UID:951673860259e9e0eba2391dea4e34bf
DTSTAMP:20260421T130449Z
SUMMARY:From the Rabbi's Study  Intro to Kabbalah
DESCRIPTION:Jewish Community Partners\nMemphis Jewish Community Calendar\nh
 ttps://jcpmemphis.org/community-calendar/from-the-rabbis-study--intro-to-k
 abbalah-1448404922\n\nadult study
DTSTART;TZID=America/Chicago:20160330T183000
DTEND;TZID=America/Chicago:20160330T193000
END:VEVENT
END:VCALENDAR
