BEGIN:VCALENDAR
PRODID:-//eluceo/ical//2.0/EN
VERSION:2.0
CALSCALE:GREGORIAN
BEGIN:VEVENT
UID:27d5c1a7acb9acd71733188c205c4830
DTSTAMP:20260419T191654Z
SUMMARY:Genealogy Discussions at Temple Israel 
DESCRIPTION:Jewish Community Partners\nMemphis Jewish Community Calendar\nh
 ttps://jcpmemphis.org/community-calendar/genealogy-discussions-at-temple-i
 srael-1412719203\n\nOn March 10\, we will learn how to meaningfully organi
 ze all of our ancestors’ pictures\, articles\, etc. that we all have at 
 home. On March 24\, we will learn about how we all are connected.
DTSTART;TZID=America/Chicago:20150310T190000
DTEND;TZID=America/Chicago:20150310T203000
END:VEVENT
END:VCALENDAR
