BEGIN:VCALENDAR
PRODID:-//eluceo/ical//2.0/EN
VERSION:2.0
CALSCALE:GREGORIAN
BEGIN:VEVENT
UID:46601dd553d4d06ac6aefb5559e82496
DTSTAMP:20260420T104808Z
SUMMARY:GMSG Gala Dinner
DESCRIPTION:Jewish Community Partners\nMemphis Jewish Community Calendar\nh
 ttps://jcpmemphis.org/community-calendar/gmsg-gala-dinner-1542819314\n\nGo
 ldie Margolin School for Girls Annual Gala Dinner
DTSTART;TZID=America/Chicago:20190401T183000
DTEND;TZID=America/Chicago:20190401T203000
END:VEVENT
END:VCALENDAR
