BEGIN:VCALENDAR
PRODID:-//eluceo/ical//2.0/EN
VERSION:2.0
CALSCALE:GREGORIAN
BEGIN:VEVENT
UID:83792b573e6aceb8260130be8578bf7b
DTSTAMP:20260425T210038Z
SUMMARY:GMSG Torah Learning Showcase
DESCRIPTION:Jewish Community Partners\nMemphis Jewish Community Calendar\nh
 ttps://jcpmemphis.org/community-calendar/gmsg-torah-learning-showcase-1525
 372311\n\nThe girls of the Goldie Margolin School for Girls will share and
  showcase the Torah learning going on inside and outside of the classroom.
  This event will feature our First Place Moot Beit Din team along with our
  other Moot Beit Din participants.
DTSTART;TZID=America/Chicago:20180514T203000
DTEND;TZID=America/Chicago:20180514T213000
END:VEVENT
END:VCALENDAR
