BEGIN:VCALENDAR
PRODID:-//eluceo/ical//2.0/EN
VERSION:2.0
CALSCALE:GREGORIAN
BEGIN:VEVENT
UID:0ff348331be7163e2aff81cd13e762e7
DTSTAMP:20260422T133321Z
SUMMARY:God Only Knows: A Conversation about Divine Omniscience
DESCRIPTION:Jewish Community Partners\nMemphis Jewish Community Calendar\nh
 ttps://jcpmemphis.org/community-calendar/god-only-knows-a-conversation-abo
 ut-divine-omniscience-1508279566\n\nDr. Mark Kaplowitz of the Bornblum Jud
 aic Studies Program at the University of Memphis will present: "God Only K
 nows: A Conversation about Divine Omniscience." This talk looks to both co
 ntemporary science and the Jewish tradition to think anew about what it ta
 kes to have a rational God in the 21st century.
DTSTART;TZID=America/Chicago:20171114T190000
DTEND;TZID=America/Chicago:20171114T203000
END:VEVENT
END:VCALENDAR
