BEGIN:VCALENDAR
PRODID:-//eluceo/ical//2.0/EN
VERSION:2.0
CALSCALE:GREGORIAN
BEGIN:VEVENT
UID:99012f1f6a2be996142a4b36ba7e8f7d
DTSTAMP:20260423T022101Z
SUMMARY:Memphis Grizzlies vs. Portland
DESCRIPTION:Jewish Community Partners\nMemphis Jewish Community Calendar\nh
 ttps://jcpmemphis.org/community-calendar/grizzlies-dec8\n\nMemphis Grizzli
 es vs. Portland Trailblazers
DTSTART;TZID=America/Chicago:20161208T190000
DTEND;TZID=America/Chicago:20161208T220000
END:VEVENT
END:VCALENDAR
