BEGIN:VCALENDAR
PRODID:-//eluceo/ical//2.0/EN
VERSION:2.0
CALSCALE:GREGORIAN
BEGIN:VEVENT
UID:2e2db730e0fb3a17b1e6e837c89b4b32
DTSTAMP:20260420T085456Z
SUMMARY:Memphis Grizzlies vs. Sacramento
DESCRIPTION:Jewish Community Partners\nMemphis Jewish Community Calendar\nh
 ttps://jcpmemphis.org/community-calendar/grizzlies-jan20\n\nMemphis Grizzl
 ies vs. Sacramento Kings
DTSTART;TZID=America/Chicago:20170120T190000
DTEND;TZID=America/Chicago:20170120T220000
END:VEVENT
END:VCALENDAR
