BEGIN:VCALENDAR
PRODID:-//eluceo/ical//2.0/EN
VERSION:2.0
CALSCALE:GREGORIAN
BEGIN:VEVENT
UID:853432c0a523fef8e9129571cff075c3
DTSTAMP:20260419T125802Z
SUMMARY:Memphis Grizzlies vs. San Antonio
DESCRIPTION:Jewish Community Partners\nMemphis Jewish Community Calendar\nh
 ttps://jcpmemphis.org/community-calendar/grizzlies-mar18\n\nMemphis Grizzl
 ies vs. San Antonio Spurs
DTSTART;TZID=America/Chicago:20170318T190000
DTEND;TZID=America/Chicago:20170318T220000
END:VEVENT
END:VCALENDAR
