BEGIN:VCALENDAR
PRODID:-//eluceo/ical//2.0/EN
VERSION:2.0
CALSCALE:GREGORIAN
BEGIN:VEVENT
UID:cbf92aed1d9edce0795892c063f07dc2
DTSTAMP:20260422T170041Z
SUMMARY:Hadassah Evening with Barbara Goldstein: Hadassah Israel Update
DESCRIPTION:Jewish Community Partners\nMemphis Jewish Community Calendar\nh
 ttps://jcpmemphis.org/community-calendar/hadassah-evening-with-barbara-gol
 dstein-hadassah-israel-update-1411332432\n\nBarbara Goldstein\, Deputy Exe
 cutive Director of Hadassah in Israel\, will be in Memphis to provide the 
 community with an update on Israel and Zionism.A former volunteer\, she ha
 s been a member of the National Board\, the Executive Committee\, and Nati
 onal Vice President of Hadassah. Barbara was a member of the Cabinet of th
 e American Zionist Movement and served as a Commissioner on the Joint Auth
 ority for Jewish and Zionist Education. She also proudly served as a deleg
 ate at six World Zionist Con...
DTSTART;TZID=America/Chicago:20141104T193000
DTEND;TZID=America/Chicago:20141104T210000
END:VEVENT
END:VCALENDAR
