BEGIN:VCALENDAR
PRODID:-//eluceo/ical//2.0/EN
VERSION:2.0
CALSCALE:GREGORIAN
BEGIN:VEVENT
UID:d4dca0b13c1bb11522fe11e3c7c1296c
DTSTAMP:20260420T212757Z
SUMMARY:Hadassah Memphis 100th Anniversary Bash
DESCRIPTION:Jewish Community Partners\nMemphis Jewish Community Calendar\nh
 ttps://jcpmemphis.org/community-calendar/hadassah-memphis-100th-anniversar
 y-bash-1515171828\n\nHadassah Memphis celebrates its 100th year of service
  and fun!
DTSTART;TZID=America/Chicago:20181118T183000
DTEND;TZID=America/Chicago:20181118T210000
END:VEVENT
END:VCALENDAR
