BEGIN:VCALENDAR
PRODID:-//eluceo/ical//2.0/EN
VERSION:2.0
CALSCALE:GREGORIAN
BEGIN:VEVENT
UID:4c4d882d4b07a402d8c2fa801fb46a00
DTSTAMP:20260423T222116Z
SUMMARY:HaMelech USY & Kadima Mall Scavenger Hunt
DESCRIPTION:Jewish Community Partners\nMemphis Jewish Community Calendar\nh
 ttps://jcpmemphis.org/community-calendar/hamelech-usy--kadima-mall-scaveng
 er-hunt-1504724769\n\nUSYers and Kadimaniks will participate in a fun Mall
  Scavenger Hunt where the items purchased will be donated.
DTSTART;TZID=America/Chicago:20171112T130000
DTEND;TZID=America/Chicago:20171112T150000
END:VEVENT
END:VCALENDAR
