BEGIN:VCALENDAR
PRODID:-//eluceo/ical//2.0/EN
VERSION:2.0
CALSCALE:GREGORIAN
BEGIN:VEVENT
UID:376e7f2b60a09747f0b4640a3f18615e
DTSTAMP:20260422T202701Z
SUMMARY:JCP Community Lunch Briefing with Governor Bill Haslam
DESCRIPTION:Jewish Community Partners\nMemphis Jewish Community Calendar\nh
 ttps://jcpmemphis.org/community-calendar/haslam\n\nPlease join us for a co
 mmunity-wide briefing\n\nUp Close with Governor Bill Haslam and First Lady
  Crissy Haslam\n\nObservations from their recent trip to Israel\n\nThursda
 y\, January 14\, 2016\n12:00 noon- Doors open at 11:30 AM\n$18 per person\
 nMemphis Jewish Community Center\nFlavors of Israel Kosher lunch will be s
 erved\n\nSeating is limited and reservations are now closed.\n\nHosted by 
 the Memphis Delegation of the Tennessee Governor's Trade Mission to Israel
 \nSteve Bares\, Memphis Bioworks ...
DTSTART;TZID=America/Chicago:20160114T114500
DTEND;TZID=America/Chicago:20160114T140000
END:VEVENT
END:VCALENDAR
