BEGIN:VCALENDAR
PRODID:-//eluceo/ical//2.0/EN
VERSION:2.0
CALSCALE:GREGORIAN
BEGIN:VEVENT
UID:8960107c22828f38695af4b33c5d32d1
DTSTAMP:20260421T134559Z
SUMMARY:Havdalah and Hayrides
DESCRIPTION:Jewish Community Partners\nMemphis Jewish Community Calendar\nh
 ttps://jcpmemphis.org/community-calendar/havdalah-and-hayrides-1473282808\
 n\nFamilies join us for Havdallah\, hayrides\, activities\, a camp fire an
 d s'more fun!
DTSTART;TZID=America/Chicago:20161112T183000
DTEND;TZID=America/Chicago:20161113T213000
END:VEVENT
END:VCALENDAR
