BEGIN:VCALENDAR
PRODID:-//eluceo/ical//2.0/EN
VERSION:2.0
CALSCALE:GREGORIAN
BEGIN:VEVENT
UID:59704029d61b88d30da2f2ba79cae0b8
DTSTAMP:20260422T135048Z
SUMMARY:Hillel of Memphis Advisory Board Meeting
DESCRIPTION:Jewish Community Partners\nMemphis Jewish Community Calendar\nh
 ttps://jcpmemphis.org/community-calendar/hillel-of-memphis-advisory-board-
 meeting-1452532368\n\nSemi-Annual Hillel Adult Advisory Board
DTSTART;TZID=America/Chicago:20160203T190000
DTEND;TZID=America/Chicago:20160204T130000
END:VEVENT
END:VCALENDAR
