BEGIN:VCALENDAR
PRODID:-//eluceo/ical//2.0/EN
VERSION:2.0
CALSCALE:GREGORIAN
BEGIN:VEVENT
UID:f93838fd464a5f36313320f76064a548
DTSTAMP:20260419T144447Z
SUMMARY:Israel Beyond the Conflict with R Yoav Ende
DESCRIPTION:Jewish Community Partners\nMemphis Jewish Community Calendar\nh
 ttps://jcpmemphis.org/community-calendar/israel-beyond-the-conflict-with-r
 -yoav-ende-1475775960\n\nRabbi Yoav Ende of Hannaton Education Center will
  speak about leadership and diversity in Israeli society.
DTSTART;TZID=America/Chicago:20170220T190000
DTEND;TZID=America/Chicago:20170220T210000
END:VEVENT
END:VCALENDAR
