BEGIN:VCALENDAR
PRODID:-//eluceo/ical//2.0/EN
VERSION:2.0
CALSCALE:GREGORIAN
BEGIN:VEVENT
UID:937ef174615b2c1719d8dd64945f645d
DTSTAMP:20260422T000044Z
SUMMARY:Israel Scouts Friendship Caravan at Pink Palace
DESCRIPTION:Jewish Community Partners\nMemphis Jewish Community Calendar\nh
 ttps://jcpmemphis.org/community-calendar/israel-scouts-friendship-caravan-
 at-pink-palace-1552335234\n\nJoin Memphis Jewish Federation at the Pink Pa
 lace Mansion Theater for an interactive musical theater performance from t
 he Israel Scouts Friendship Caravan\, a group of energetic 16- and 17-year
 -old Israeli Scouts (Tzofim). The show will feature new and familiar melod
 ies and is guaranteed to get you up on your feet and dancing along! Great 
 for children and adults of all ages.
DTSTART;TZID=America/Chicago:20190709T140000
DTEND;TZID=America/Chicago:20190709T150000
END:VEVENT
END:VCALENDAR
