BEGIN:VCALENDAR
PRODID:-//eluceo/ical//2.0/EN
VERSION:2.0
CALSCALE:GREGORIAN
BEGIN:VEVENT
UID:3d49f6039a060358aa1bb59013faf67d
DTSTAMP:20260419T222548Z
SUMMARY:It's All About You!
DESCRIPTION:Jewish Community Partners\nMemphis Jewish Community Calendar\nh
 ttps://jcpmemphis.org/community-calendar/its-all-about-you-1503602567\n\nJ
 oin the Young Families at Beth Sholom for a Mishpacha Monthly program on S
 unday\, September 10th from 10am-11:30am.\n\nAs part of the activity\, you
  are invited to participate in SHOW AND TELL.\n\nEach member of your famil
 y is invited to please bring any item and tell the group why this is speci
 al to you. It can be any inanimate object other than food.\n\nThere will b
 e other Ice Breakers as well so\, come join us\, have a snack\, and make s
 ome new friends!\n\nPlease RSVP to elana@bsholom.org by T...
DTSTART;TZID=America/Chicago:20170910T100000
DTEND;TZID=America/Chicago:20170910T113000
END:VEVENT
END:VCALENDAR
