BEGIN:VCALENDAR
PRODID:-//eluceo/ical//2.0/EN
VERSION:2.0
CALSCALE:GREGORIAN
BEGIN:VEVENT
UID:d9a3e02bb400d4f02180df247d3a0580
DTSTAMP:20260422T112443Z
SUMMARY:JCP Annual Meeting 2020
DESCRIPTION:Jewish Community Partners\nMemphis Jewish Community Calendar\nh
 ttps://jcpmemphis.org/community-calendar/jcp-annual-meeting-2020\n\nhold d
 ate: JCP Annual Meeting
DTSTART;TZID=America/Chicago:20200616T190000
DTEND;TZID=America/Chicago:20200616T210000
END:VEVENT
END:VCALENDAR
