BEGIN:VCALENDAR
PRODID:-//eluceo/ical//2.0/EN
VERSION:2.0
CALSCALE:GREGORIAN
BEGIN:VEVENT
UID:393611e51acc034deb88f48278f41949
DTSTAMP:20260420T012159Z
SUMMARY:JCP Board Meeting
DESCRIPTION:Jewish Community Partners\nMemphis Jewish Community Calendar\nh
 ttps://jcpmemphis.org/community-calendar/jcp-board-meeting-1437584687\n\nJ
 CP Board Meeting
DTSTART;TZID=America/Chicago:20160601T173000
DTEND;TZID=America/Chicago:20160601T190000
END:VEVENT
END:VCALENDAR
