BEGIN:VCALENDAR
PRODID:-//eluceo/ical//2.0/EN
VERSION:2.0
CALSCALE:GREGORIAN
BEGIN:VEVENT
UID:089fa968b34e1fa73e1c06f6475c3cc7
DTSTAMP:20260419T211133Z
SUMMARY:JCP Board Meeting
DESCRIPTION:Jewish Community Partners\nMemphis Jewish Community Calendar\nh
 ttps://jcpmemphis.org/community-calendar/jcp-board-meeting-aug\n\nJewish C
 ommunity Partners Board Meeting
DTSTART;TZID=America/Chicago:20150826T173000
DTEND;TZID=America/Chicago:20150826T183000
END:VEVENT
END:VCALENDAR
