BEGIN:VCALENDAR
PRODID:-//eluceo/ical//2.0/EN
VERSION:2.0
CALSCALE:GREGORIAN
BEGIN:VEVENT
UID:0fd4b514b96e71916172a14f09f13535
DTSTAMP:20260420T041434Z
SUMMARY:JCP Annual Meeting
DESCRIPTION:Jewish Community Partners\nMemphis Jewish Community Calendar\nh
 ttps://jcpmemphis.org/community-calendar/jcp-board-meeting-jun\n\nPlease J
 oin Us For the 1st Annual Community Gathering Introducing\nJewish Communit
 y Partners: Leading Our Jewish Future\n\nWednesday\, June 17\, 2015 | 7:0
 0 p.m.\nBelz Theater\nMJCC\n\nFeaturing Fed Talks: Young Jewish Memphis\nE
 mily Faber: A Federation-Funded Trip to Israel That Changed My Life\nIra L
 ipsey:Young Leadership Is Our Strength and our Future\nBenjamin Orgel: Mem
 phis Is a Great Place to be Young and Jewish\nSarah Vanderwalde: I’m So 
 Glad We Chose Jewish Memphis\n\nChairman's Repo...
DTSTART;TZID=America/Chicago:20150617T183000
DTEND;TZID=America/Chicago:20150617T213000
END:VEVENT
END:VCALENDAR
